BEGIN:VCALENDAR
VERSION:2.0
PRODID:-//hacksw/handcal//NONSGML v1.0//EN
CALSCALE:GREGORIAN
BEGIN:VEVENT
SUMMARY:Gedenkveranstaltung zum Workers Memorial Day!
DTSTART:20260428T170000Z
DESCRIPTION:Kundgebung zum Gedenken an unsere Kolleg*innen weltweit\, die während oder wegen ihrer Arbeit verstorben oder verletzt worden sind. Begehen wir gemeinsam als Gewerkschaften und Arbeiter*innen den Workers Memorial Day am 28.04. Schließt euch uns an\, gedenkt mit uns und hört die Geschichten unserer Kolleg:innen aus den verschieden Branchen!
LOCATION:Neue Große Bergstraße bei IKEA
DTSTAMP:20260423T150127Z
UID:69ea1827472b5
END:VEVENT
END:VCALENDAR